BEGIN:VCALENDAR
VERSION:2.0
PRODID:-//Consulteam Italia Srl - ECPv6.15.20//NONSGML v1.0//EN
CALSCALE:GREGORIAN
METHOD:PUBLISH
X-WR-CALNAME:Consulteam Italia Srl
X-ORIGINAL-URL:https://www.consulteam-italia.com
X-WR-CALDESC:Eventi per Consulteam Italia Srl
REFRESH-INTERVAL;VALUE=DURATION:PT1H
X-Robots-Tag:noindex
X-PUBLISHED-TTL:PT1H
BEGIN:VTIMEZONE
TZID:Europe/Rome
BEGIN:DAYLIGHT
TZOFFSETFROM:+0100
TZOFFSETTO:+0200
TZNAME:CEST
DTSTART:20190331T010000
END:DAYLIGHT
BEGIN:STANDARD
TZOFFSETFROM:+0200
TZOFFSETTO:+0100
TZNAME:CET
DTSTART:20191027T010000
END:STANDARD
BEGIN:DAYLIGHT
TZOFFSETFROM:+0100
TZOFFSETTO:+0200
TZNAME:CEST
DTSTART:20200329T010000
END:DAYLIGHT
BEGIN:STANDARD
TZOFFSETFROM:+0200
TZOFFSETTO:+0100
TZNAME:CET
DTSTART:20201025T010000
END:STANDARD
BEGIN:DAYLIGHT
TZOFFSETFROM:+0100
TZOFFSETTO:+0200
TZNAME:CEST
DTSTART:20210328T010000
END:DAYLIGHT
BEGIN:STANDARD
TZOFFSETFROM:+0200
TZOFFSETTO:+0100
TZNAME:CET
DTSTART:20211031T010000
END:STANDARD
BEGIN:DAYLIGHT
TZOFFSETFROM:+0100
TZOFFSETTO:+0200
TZNAME:CEST
DTSTART:20220327T010000
END:DAYLIGHT
BEGIN:STANDARD
TZOFFSETFROM:+0200
TZOFFSETTO:+0100
TZNAME:CET
DTSTART:20221030T010000
END:STANDARD
BEGIN:DAYLIGHT
TZOFFSETFROM:+0100
TZOFFSETTO:+0200
TZNAME:CEST
DTSTART:20230326T010000
END:DAYLIGHT
BEGIN:STANDARD
TZOFFSETFROM:+0200
TZOFFSETTO:+0100
TZNAME:CET
DTSTART:20231029T010000
END:STANDARD
END:VTIMEZONE
BEGIN:VEVENT
DTSTART;TZID=Europe/Rome:20210916T080000
DTEND;TZID=Europe/Rome:20210917T170000
DTSTAMP:20260422T133857
CREATED:20200915T084150Z
LAST-MODIFIED:20210915T072012Z
UID:4409-1631779200-1631898000@www.consulteam-italia.com
SUMMARY:Corso di Primo Soccorso Rischio Alto 16 ore
DESCRIPTION:Corso di Primo Soccorso rischio alto 16 ore\nIn base all’art. 18 del Testo Unico (D. Lgs. 81/08) il corso fornisce gli strumenti conoscitivi essenziali\, per permettere a chi è incaricato di attuare gli interventi di primo soccorso in attesa dei soccorsi specializzati\, e di limitare e/o evitare l’aggravarsi delle situazioni di intervento. \nIl programma formativo\, definito dal DM 388 del 15 Luglio 2003\, allegati 3 e 4\, secondo quanto predisposto dall’art. 45 del D.Lgs.81/08\, si sviluppa su 3 moduli per un totale complessivo di 16 ore. \nDurata:\nIl corso dura 16 ore \nDocenti\nLa formazione è svolta da personale medico. \nData\n\n16 Settembre 2021: ore 8:00 – 17:00\n17 Settembre 2021: ore 8:00 – 17:00\n\nDove\nIl corso sarà svolto presso la sede di Consulteam Italia Srl. \nIscriviti! \nTi interessano altri corsi di formazione? Guarda tutti i nostri corsi. \n 
URL:https://www.consulteam-italia.com/corsi/corso-di-primo-soccorso-rischio-alto-16-ore
LOCATION:Via Francia 15/A 37135 Verona\, via Francia 15/A\, Verona\, 37135\, Italia
CATEGORIES:Formazione in Aula
ATTACH;FMTTYPE=image/jpeg:https://www.consulteam-italia.com/wp-content/uploads/2020/09/Corso-Primo-Soccorso-rischio-alto.jpg
END:VEVENT
BEGIN:VEVENT
DTSTART;TZID=Europe/Rome:20210911T080000
DTEND;TZID=Europe/Rome:20210911T170000
DTSTAMP:20260422T133857
CREATED:20210831T100203Z
LAST-MODIFIED:20211004T101651Z
UID:5201-1631347200-1631379600@www.consulteam-italia.com
SUMMARY:Formazione PEI PES PAV 16 ore
DESCRIPTION:Formazione PEI PES PAV 16 ore\nObiettivo\nObiettivo del corso di formazione PEI PES PAV di 16 ore è formare gli operatori con la mansione specifica sulla Norma CEI EN 50110-1\n(CEI 1-48) e sulla Norma CEI 11-27\, per quel che riguarda le competenze professionali richieste alle persone esperte (PES) e alle persone avvertite (PAV)\nRispetto ai lavori elettrici una persona può essere: idonea\, esperta\, avvertita. \nChi è il PEI?\nPEI (Persona Idonea): Persona alla quale è stata riconosciuta la capacità tecnica ad eseguire\nspecifici lavori sotto tensione su sistemi di Categoria 0 e 1 (bassa tensione\, quindi\, fino ad un\nmassimo di 1000 volt in corrente alternata o 1500 volt in corrente continua). \nChi è il PES?\nPES (Persona esperta): Persona con istruzione\, conoscenza ed esperienza rilevanti tali da\nconsentirle di analizzare i rischi e di evitare i pericoli che l’elettricità può creare. Lavora FUORI\nTENSIONE ed in prossimità. Può svolgere il ruolo di preposto ai lavori elettrici\, cioè di responsabile\ndei lavori eseguiti da più addetti. \nChi è il PAV?\nPAV (Persona avvertita): Persona adeguatamente avvisata da persone esperte per metterla in\ngrado di evitare i pericoli che l’elettricità può creare. Lavora FUORI TENSIONE ed in prossimità\, che\npuò operare solo se coordinato da un PES. \nSanzioni\nLa mancata formazione del lavoratore comporta al Datore di Lavoro la violazione dell’art. 55 del\nD.lgs. 81/08 e quindi l’arresto da 2 a 4 mesi oppure l’ammenda da €1.200 a €5.200.\nIl corso PES-PAV-PEI si rivolge a chiunque svolga lavori elettrici\, in particolare:\nPersonale (preposti\, capi squadra\, capi cantiere\, lavoratori\, etc)\, Manutentori\, Impiantisti Elettrici\nche operano su impianti e apparecchiature con tensione nominale fino a 1000 volt. \nIl Corso\nIl corso si articola su un percorso formativo di 16 ore così strutturato: \n\n10 ore di teoria\n6 ore di addestramento.\n\nLa verifica dell’apprendimento sarà finalizzata alla verifica dell’acquisizione delle nozioni apprese\nin aula\, attraverso la somministrazione di un questionario a risposta multipla. La verifica si ritiene\npositivamente superata laddove il partecipante risponda esattamente ad almeno il 75% delle\ndomande che costituiscono il questionario. \nL’attestato di partecipazione con superamento del corso sarà rilasciato a coloro che\, oltre ad aver\nsuperato positivamente la verifica finale di apprendimento\, abbiano presenziato ad almeno 12 ore\nformative.\nIl corso sarà svolto presso i vostri locali e la parte pratica si volgerà su vostre apparecchiature e\nquadri elettrici. \nSede\nConsulteam Srl: Via Francia 15/a Verona \nDurata\n16 ore \nDate:\n\nSabato 11 Settembre: ore 7:00- 13:00\nSabato 25 Settembre: ore 8:00- 12:00\nSabato 16 Ottobre: ore 7:00 – 13:00\n\nIscriviti! \nTi interessano altri corsi di formazione? Guarda tutti i nostri corsi.
URL:https://www.consulteam-italia.com/corsi/formazione-pei-pes-pav-16-ore
LOCATION:Via Francia 15/A 37135 Verona\, via Francia 15/A\, Verona\, 37135\, Italia
CATEGORIES:Formazione in Aula
ATTACH;FMTTYPE=image/jpeg:https://www.consulteam-italia.com/wp-content/uploads/2021/04/Formazione-PEI-PES-PAV-16-ore.jpg
END:VEVENT
BEGIN:VEVENT
DTSTART;VALUE=DATE:20210909
DTEND;VALUE=DATE:20210910
DTSTAMP:20260422T133857
CREATED:20210904T095409Z
LAST-MODIFIED:20210904T095409Z
UID:5192-1631145600-1631231999@www.consulteam-italia.com
SUMMARY:Aggiornamento lavori in quota 4 ore
DESCRIPTION:Aggiornamento lavori in quota 4 ore\nA chi è rivolto\nIl corso è rivolto agli addetti\, responsabili e preposti a lavori che comportino rischi di caduta dall’alto (lavori in quota). \nPerché?\nll corso di cui in oggetto è rivolto a lavoratori che si espongono al rischio di cadute\, da una quota posta ad altezza superiore a 2 metri rispetto ad un piano stabile. \nL’articolo 115 del D.Lgs 81/2008 descrive i sistemi di arresto caduta necessari qualora non fossero state adottate le misure di protezione collettiva previste. L’articolo 77 del D.Lgs 81/2008 impone l’obbligo di formazione ed addestramento pratico sul corretto utilizzo dei DPI di III categoria\, compresi i dispositivi di arresto caduta\, per tutti i lavoratori che ne debbano fare uso. Il corso Lavori in Quota viene effettuato insieme al corso DPI 3° Categoria\, e comprende sia una parte teorica che una parte pratica. \nE’ previsto lo svolgimento di test teorici e pratici\, per valutare le conoscenze acquisite durante il corso; verrà rilasciato un attestato di partecipazione/formazione a chi li supererà con successo. \nArgomenti\nLe prove pratiche di addestramento vengono personalizzate in base alla tipologia di lavoro con funi\, con esercizi appositamente preparati ed allestiti.\n· Lavoro in quota e pericolo di caduta\n· Corretto metodo per indossare un’imbracatura anticaduta\n· Scelta dei DPI anticaduta e utilizzo in sicurezza: scelta del casco di protezione\n· Illustrazione dei DPI oggetto della formazione\n· Equipaggiamento corretto dei DPI oggetto della formazione\n· Collegamento corretto dei DPI oggetto della formazione\n· Posizionamento in appoggio su struttura verticale\n· Valutazione nella scelta dell’utilizzo di un dissipatore di energia\n· Linee vita e scelte di ancoraggio\n· Accesso e posizionamento su scala semplice\n· Accessi verticali e orizzontali con doppio cordino anticaduta\n· Uso di ancoraggi portatili in fettuccia e di linea di ancoraggio orizzontale\n· Soccorso dell’operatore in quota \nSede\nil corso sarà svolto nella sede di Consulteam Srl \nDurata\nIl corso ha una durata di 4 ore \nData:\nMercoledì 8 Settembre: ore 8:00 – 12:00 \nMercoledì 29 Settembre: ore 8:00 – 12:00 \nIscriviti! \nTi interessano altri corsi di formazione? Guarda tutti i nostri corsi.
URL:https://www.consulteam-italia.com/corsi/aggiornamento-lavori-in-quota-4-ore
LOCATION:Via Francia 15/A 37135 Verona\, via Francia 15/A\, Verona\, 37135\, Italia
CATEGORIES:Formazione in Aula
ATTACH;FMTTYPE=image/jpeg:https://www.consulteam-italia.com/wp-content/uploads/2021/09/aggiornamento-lavori-in-quota.jpg
END:VEVENT
BEGIN:VEVENT
DTSTART;TZID=Europe/Rome:20210908T080000
DTEND;TZID=Europe/Rome:20210908T170000
DTSTAMP:20260422T133857
CREATED:20210831T090840Z
LAST-MODIFIED:20210831T125838Z
UID:5196-1631088000-1631120400@www.consulteam-italia.com
SUMMARY:Uso della Gru su Autocarro 12 ore
DESCRIPTION:Corso Gru su Autocarro 12 ore\nIl corso Gru su Autocarro ha l’obiettivo di insegnare a tutti i partecipanti le conoscenze necessarie per un corretto e sicuro utilizzo delle gru. \nIl corso è costituito da 2 parti: la prima parte teorica mentre la seconda\, della durata di 8 ore\, sarà pratica. Al termine del corso\, in seguito al superamento della verifica finale sarò rilasciato l’attestato di abilitazione all’uso delle gru per autocarro. \nL’intero corso sarà tenuto presso la sede di Consulteam\, la parte teorica in aula mentre il modulo pratico all’esterno. \nQuesta era una panoramica generale\, ora entriamo nel dettaglio. \nA chi è indirizzato il corso gru su Autocarro?\nIl corso si rivolge agli addetti all’uso delle gru su autocarro che vogliono conseguire l’abilitazione. \nDurata\n12 ore. \nModulo Teorico (4 ore)\nNella prima parte del corso saranno spiegati tutti i concetti teorici per garantire un corretto uso delle gru. Partendo da argomenti più generali come cenni di normativa e le diverse responsabilità dell’operatore si passerà a concetti più tecnici quali la terminologia\, le caratteristiche principali\, dispositivi\, contenuti delle documentazioni e molto altro. \nModulo Pratico (8 ore)\nNel modulo pratico verrà insegnato il corretto utilizzo dei diversi dispostivi e strumenti come i dispositivi di comando\, i diversi tipi di controlli\, la pianificazione delle operazione con conseguente posizionamento delle gru per autocarro arrivando così alle esercitazioni. Le esercitazioni pratiche operative comprendono: presa e aggancio carico\, movimentazione del carico con ostacoli\, movimentazione di carici di forme particolari\, manovre di emergenza e altro. \nQuando\nIl corso si terrà in due giorni differenti: \n\nMercoledì 8 Settembre: dalle 8 alle 12 con il modulo teorico e dalle 13 alle 17 con il modulo pratico.\nMercoledì 15 Settembre: dalle 8 alle 12 con il modulo pratico.\n\nSede\nConsulteam Srl: Via Francia 15/a \nRiferimenti normativi\nD.lgs 81/08 art 73 comma 5 \nAccordo Stato Regioni del 22/2/2012 \nIscriviti! \nTi interessano altri corsi di formazione? Guarda tutti i nostri corsi. \n 
URL:https://www.consulteam-italia.com/corsi/uso-della-gru-su-autocarro-12-ore
LOCATION:Via Francia 15/A 37135 Verona\, via Francia 15/A\, Verona\, 37135\, Italia
CATEGORIES:Formazione in Aula
ATTACH;FMTTYPE=image/jpeg:https://www.consulteam-italia.com/wp-content/uploads/2021/08/Gru-su-autocarri.jpg
END:VEVENT
BEGIN:VEVENT
DTSTART;TZID=Europe/Rome:20210426T090000
DTEND;TZID=Europe/Rome:20220225T173000
DTSTAMP:20260422T133857
CREATED:20210310T145319Z
LAST-MODIFIED:20220412T092903Z
UID:4760-1619427600-1645810200@www.consulteam-italia.com
SUMMARY:Corso Di Gestione Dello Stress Sul Posto Di Lavoro
DESCRIPTION:Corso Di Gestione Dello Stress Sul Posto Di Lavoro\nPanoramica\nSecondo l’Accordo Europeo sullo stress lavoro correlato del 2004\, lo stress è “una condizione che può essere accompagnata da disturbi o disfunzioni di natura fisica\, psicologica o sociale ed è conseguenza del fatto che taluni individui non si sentono in grado di corrispondere alle richieste o alle aspettative riposte in loro”. \nLo stress è un problema che molto diffuso negli ambienti di lavoro e come già sappiamo non porta nulla di positivo e crea solamente un ambiente malsano per tutti i soggetti coinvolti. \nMa come gestire questo Stress lavoro correlato? \nIl Corso “Gestione dello stress sul Posto di Lavoro”\nIl corso è frutto dell’esperienza decennale sul campo di un team di infermieri e psicologi\, che approcciandosi ne \n \ngli ambiti lavorativi\, hanno rilevato le principali criticità che portano ad un’errata gestione degli eventi critici come malori ed infortuni\, ed ad una scarsa produttività e un ambiente lavorativo malsano. \nSaranno alternate lezioni frontali a sessioni pratiche\, dove i discenti sperimenteranno personalmente quanto lo stress influenza e a volte vanifica i tentativi di intervenire correttamente su un infortunio. \nArgomenti\nLe tematiche affrontate dallo psicologo saranno le seguenti: \n\nStress e Distress\nTecniche di gestione dello stress\nBurn-out\, come riconoscere i segnali di allarme\nMobbing e Stalking\n\nDurata: 4 ore\, \nConsigli \nSi consiglia vivamente un abbigliamento comodo per affrontare le prove pratiche. \n  \nTi interessa il “corso Di Gestione Dello Stress Sul Posto Di Lavoro”? \nRichiedilo per la tua azienda!\nI tuoi dipendenti lavorano molto davanti agli schermi? Salvaguarda la loro vista con il Training della vista con il Metodo Bates \nAltri corsi di Formazione in Aula \nHai bisogno di maggiori informazioni\, contattaci per mail: info@consulteam-italia.com oppure chiamaci al numero 045 509607 \n  \n 
URL:https://www.consulteam-italia.com/corsi/corso-di-gestione-dello-stress-sul-posto-di-lavoro
LOCATION:Via Francia 15/A 37135 Verona\, via Francia 15/A\, Verona\, 37135\, Italia
CATEGORIES:Formazione in Aula
ATTACH;FMTTYPE=image/jpeg:https://www.consulteam-italia.com/wp-content/uploads/2021/03/Corso-Di-Gestione-Dello-Stress-Sul-Posto-Di-Lavoro-2.jpg
END:VEVENT
BEGIN:VEVENT
DTSTART;TZID=Europe/Rome:20210426T080000
DTEND;TZID=Europe/Rome:20220125T170000
DTSTAMP:20260422T133857
CREATED:20210312T104501Z
LAST-MODIFIED:20220412T093007Z
UID:4879-1619424000-1643130000@www.consulteam-italia.com
SUMMARY:Training Vista con Metodo BATES
DESCRIPTION:Vuoi salvaguardare la vista dei tuoi dipendenti? Il Training Vista con Metodo BATES è quello che fa per te!\nSappiamo tutti quanto la vista sia importante ma allo stesso quanto sia facile da perdere gradualmente. Specialmente per i dipendenti che lavorano al computer tutto il giorno\, questo è rischio diffuso\, data l’alta diffusione dello Smart Working dell’ultimo anno.\n\nQuanto è importante l’allenamento per gli occhi?\nSembra strano ma gli occhi possono essere allenati\, e anzi questo training può essere la soluzioni per diversi disturbi visivi. Il training per gli occhi effettuato correttamente seguendo le indicazioni di una persona competente può ridurre o risolvere del tutto alcuni disturbi visivi\, ad esempio alcuni casi di ametropia lieve che possono causare disturbi durante il lavoro al computer. Altri disturbi che possono essere alleviati sono: miopia\, ipermetropia\, presbiopia\, astigmatismo.\nIl metodo Bates\nIl metodo di Bates ritiene inutile\, o addirittura dannoso\, l’uso di occhiali o interventi chirurgici per la soluzione dei problemi visivi perché ogni persona che comincia a usare gli occhiali incorrerebbe inesorabilmente in un peggioramento della visione.\nLe principali tecniche che vengono applicate sono:\n\nPalming: davanti ad una scrivania\, coprite gli occhi con le mani ed appoggiate tutto il peso del capo sui palmi delle mani. Restate così per 2 – 3 minuti respirando tranquillamente. Notate come l’oscurità davanti agli occhi diventa man mano più profonda. Si può terminare visualizzando paesaggi naturali e tranquilli. Fatelo spesso per riposare gli occhi. Ogni volta che dovete aspettare il caricamento di una pagina\, invece i fissare ansiosamente lo schermo \,\nfate palming. Quest’esercizio sviluppa un senso di calore sull’organo della vista che ha un effetto benefico favorendo il rilassamento della muscolatura intrinseca ed estrinseca dell’occhio.\nAllenamento all’accomodazione: avvicinate ed allontanate dagli occhi una penna (o un qualsiasi oggetto colorato) mentre la osservate. Respirate e battete le palpebre. L’allontanamento e l’avvicinamento alternati di un oggetto determina contrazione e rilassamento del muscolo dell’accomodazione (ciliare) che altrimenti resterebbe contratto nella stessa posizione per troppo tempo causando affaticamento visivo. Inoltre mentre ammiccare con le palpebre facilita la fuoriuscita del film lacrimale che “lubrifica”\, disinfetta e nutre la cornea\, l’esercizio respiratorio ossigena il sangue e\nconseguentemente anche l’occhio.\nSunning: senza occhiali e ad occhi chiusi guardate in direzione del sole per qualche istante. Respirando immaginate davanti a voi una profondità infinita immaginando di assorbire il calore e distribuirlo dentro gli occhi\, dietro\, e anche verso la nuca. 5 – 10 minuti. Fa molto bene alternarlo con il Palming. Muovete poi gli occhi in grandi cerchi per permettere alla luce di toccare ogni parte della retina.\nBlinking (battere le palpebre):  serve a dare movimento\, relax\, e per inumidire e pulire la cornea e massaggio agli occhi. Il movimento deve essere leggero\, come il battito d’ali di una farfalla. Ma all’inizio può anche essere utile alternare un battito leggero ad un vero e proprio strizzare gli occhi.\n\n\nInformazioni sul Corso\nIl corso è aperto su richiesta e verrà eseguito in aula presso la nostra sede o presso la sede dell’azienda cliente.\nDurata: Il corso si svolgerà in 5 sedute da 2 ore l’una\, per un totale di 10 Ore\nPrezzo: Il prezzo verrà concordato in base al numero di dipendenti.\nNumero iscritti: massimo 10 dipendenti per corso.\n\nPer maggiori Informazioni\nRichiedi informazioni!\n  \nLa vista è importantissima\, ma lo è anche la gestione dello Stress! Abbiamo creato un corso sulla gestione dello stress correlato al lavoro.
URL:https://www.consulteam-italia.com/corsi/training-vista-con-metodo-bates
LOCATION:Via Francia 15/A 37135 Verona\, via Francia 15/A\, Verona\, 37135\, Italia
CATEGORIES:Formazione in Aula,Sicurezza
ATTACH;FMTTYPE=image/jpeg:https://www.consulteam-italia.com/wp-content/uploads/2021/03/Training-Vista-con-Metodo-BATES.jpg
END:VEVENT
BEGIN:VEVENT
DTSTART;TZID=Europe/Rome:20200909T080000
DTEND;TZID=Europe/Rome:20221231T170000
DTSTAMP:20260422T133857
CREATED:20200909T132617Z
LAST-MODIFIED:20220508T101430Z
UID:4388-1599638400-1672506000@www.consulteam-italia.com
SUMMARY:Formazione Specifica Rischio Basso 4 ore
DESCRIPTION:Formazione Specifica Rischio Basso 4 ore\nL’art. 37 del D. Lgs. 81/08 prevede che il Datore di lavoro provveda alla formazione di tutti i suoi lavoratori\, secondo i contenuti e la durata previsti dall’accordo tra il Ministro del lavoro e delle politiche sociali\, il Ministro della salute\, le Regioni e le Province autonome di Trento e Bolzano per la formazione dei lavoratori sanciti dalla Conferenza Stato Regioni del 21/12/2011 \nIl presente corso di formazione specifica rischio basso di 4 ore e-learning è rivolto ai lavoratori delle aziende del settore a rischio basso. Come previsto dall’Accordo Stato Regioni del 21 dicembre 2011\, gli argomenti affrontati nel presente corso di formazione sulla sicurezza specifica per azienda a rischio basso sono relativi a situazioni di rischio\, possibili danni ed infortuni e alle conseguenti misure e procedure di prevenzione e protezione caratteristiche del settore o comparto di appartenenza dell’azienda \nVisita gli altri corsi online
URL:https://www.consulteam-italia.com/corsi/formazione-specifica-rischio-basso-4-ore-2
LOCATION:Consulteam Srl Verona\, Via Francia\,15/a\, Verona\, VR\, 37135\, Italia
CATEGORIES:Formazione Online
ATTACH;FMTTYPE=image/jpeg:https://www.consulteam-italia.com/wp-content/uploads/2019/08/Sito2.jpg
END:VEVENT
BEGIN:VEVENT
DTSTART;TZID=Europe/Rome:20200527T080000
DTEND;TZID=Europe/Rome:20211231T233000
DTSTAMP:20260422T133857
CREATED:20200527T132523Z
LAST-MODIFIED:20210910T074241Z
UID:4258-1590566400-1640993400@www.consulteam-italia.com
SUMMARY:CORSO HACCP sull'Igiene Alimentare
DESCRIPTION:CORSO HACCP sull’Igiene Alimentare\nTutte le professioni in ambito alimentare hanno l’obbligo di effettuare un corso HACCP sull’igiene Alimentare. \nIl corso HACCP sull’igiene Alimentare è rivolto sia al personale qualificato che manipola alimenti e bevande\, sia al personale che non manipola alimenti e bevande. \nScopo del corso è fornire informazioni e formazione per rafforzare le proprie conoscenze sui comportamenti igienico-sanitari in modo da comprendere al meglio il proprio stato di salute e la trasmissione di malattie attraverso gli alimenti. \nArgomenti del corso: \n1 – Autocontrollo e metodo HACCP \n2 – Malattie trasmesse dagli alimenti \n3 – Requisiti Ambiente \nVisita gli altri Corsi Online
URL:https://www.consulteam-italia.com/corsi/corso-haccp-igiene-alimentare
CATEGORIES:Formazione Online
ATTACH;FMTTYPE=image/jpeg:https://www.consulteam-italia.com/wp-content/uploads/2020/05/Corso-Haccp.jpg
END:VEVENT
BEGIN:VEVENT
DTSTART;TZID=Europe/Rome:20200526T080000
DTEND;TZID=Europe/Rome:20221231T233000
DTSTAMP:20260422T133857
CREATED:20200527T114444Z
LAST-MODIFIED:20220401T084103Z
UID:3379-1590480000-1672529400@www.consulteam-italia.com
SUMMARY:Aggiornamento Corso Formazione Specifica
DESCRIPTION:Aggiornamento Corso Formazione Specifica\nL’aggiornamento Corso Formazione Specifica è rivolto a tutti i lavoratori così come definiti all’articolo 2\, lettera “a” del D. Lgs. 81/2008 e s.m.i.\, già in possesso della formazione specifica rischio “basso”\, “medio” o “alto” così come disciplinata dall’Art. 37 del D. Lgs. 81/2008 e s.m.i. – Accordo Stato Regioni del 21/12/2011. \nIl corso vuole fornire ai lavoratori partecipanti l’aggiornamento della formazione necessaria ed adeguata per conoscere i principi del Sistema di Prevenzione e Protezione adottato presso le Aziende e attraverso quali strumenti e strategie il lavoratore è chiamato ad operare per preservare lo stato di sicurezza sul luogo di lavoro. \nVerranno trattatati i seguenti argomenti: \n\nDisposizioni Generali\nOrganizzazione della sicurezza\nAmbiente di lavoro\nVideoterminali\nTecniche di rilassamento per videoterminalisti\nMovimentazione sicura degli oggetti\nStress lavoro – correlato\nRischi elettrici\n\nVisita gli altri Corsi Online
URL:https://www.consulteam-italia.com/corsi/aggiornamento-corso-formazione-specifica
CATEGORIES:Formazione Online
ATTACH;FMTTYPE=image/jpeg:https://www.consulteam-italia.com/wp-content/uploads/2020/05/aggiornamenot-corso-formazione-specifica.jpg
END:VEVENT
END:VCALENDAR